BEGIN:VCALENDAR
VERSION:2.0
PRODID:-//ChamberMaster//Event Calendar 2.0//EN
METHOD:PUBLISH
X-PUBLISHED-TTL:P3D
REFRESH-INTERVAL:P3D
CALSCALE:GREGORIAN
BEGIN:VEVENT
DTSTART:20120428T160000Z
DTEND:20120428T190000Z
X-MICROSOFT-CDO-ALLDAYEVENT:FALSE
SUMMARY:WOODALLKIDS CARNIVAL
DESCRIPTION:April is Austism Awareness Month! Join us in the courtyard of the BWF office in Irving for our Spring WOODALLKIDS CARNIVAL! \n\nAdmission is FREE for this FUN FAMILY EVENT! \n\nEnjoy games\, face-painting\, prizes\, sno-cones\, a bake sale\, and much more. Buy food & game tickets for $1. \n\nEVERYBODY WINS!\n\n\n\nThere will also be a Barefoot Books Book Sale with each sale benefiting the Brent Woodall Foundation\, free Coloring pages/activity pages for the kids\, and story time every hour!
X-ALT-DESC;FMTTYPE=text/html:<span style="text-align: left\; line-height: 14px\; font-family: 'lucida grande'\, tahoma\, verdana\, arial\, sans-serif\; color: rgb(51\,51\,51)\; font-size: 11px">April is Austism Awareness Month! Join us in the courtyard of the BWF office in Irving for our Spring WOODALLKIDS CARNIVAL!&nbsp\;</span><br style="text-align: left\; line-height: 14px\; font-family: 'lucida grande'\, tahoma\, verdana\, arial\, sans-serif\; color: rgb(51\,51\,51)\; font-size: 11px" />\n<span style="text-align: left\; line-height: 14px\; font-family: 'lucida grande'\, tahoma\, verdana\, arial\, sans-serif\; color: rgb(51\,51\,51)\; font-size: 11px">Admission is FREE for this FUN FAMILY EVENT!&nbsp\;</span><br style="text-align: left\; line-height: 14px\; font-family: 'lucida grande'\, tahoma\, verdana\, arial\, sans-serif\; color: rgb(51\,51\,51)\; font-size: 11px" />\n<span style="text-align: left\; line-height: 14px\; font-family: 'lucida grande'\, tahoma\, verdana\, arial\, sans-serif\; color: rgb(51\,51\,51)\; font-size: 11px">Enjoy games\, face-painting\, prizes\, sno-cones\, a bake sale\, and much more. Buy food &amp\; game tickets for $1.&nbsp\;</span><br style="text-align: left\; line-height: 14px\; font-family: 'lucida grande'\, tahoma\, verdana\, arial\, sans-serif\; color: rgb(51\,51\,51)\; font-size: 11px" />\n<span style="text-align: left\; line-height: 14px\; font-family: 'lucida grande'\, tahoma\, verdana\, arial\, sans-serif\; color: rgb(51\,51\,51)\; font-size: 11px">EVERYBODY WINS!<br />\n<br />\nThere will also be a Barefoot Books Book Sale with each sale benefiting the Brent Woodall Foundation\,&nbsp\;</span><span style="font-family: arial\, sans-serif\; font-size: small">free Coloring pages/activity pages for the kids\, and story time every hour!</span>
LOCATION:3021 Gateway Drive Suite 295\, Irving TX
UID:e.437.2316
SEQUENCE:3
DTSTAMP:20260421T142025Z
URL:https://business.lewisvillechamber.org/events/details/woodallkids-carnival-04-28-2012-2316
END:VEVENT

END:VCALENDAR
