BEGIN:VCALENDAR
VERSION:2.0
PRODID:-//ChamberMaster//Event Calendar 2.0//EN
METHOD:PUBLISH
X-PUBLISHED-TTL:P3D
REFRESH-INTERVAL:P3D
CALSCALE:GREGORIAN
BEGIN:VEVENT
DTSTART:20120411T163000Z
DTEND:20120411T180000Z
X-MICROSOFT-CDO-ALLDAYEVENT:FALSE
SUMMARY:Women's Division Luncheon
DESCRIPTION:Women's Division Luncheon\n\n	What's Your Number? \n\n	Confused about your credit score?  \n\n	Learn how to improve your credit score\n\n	which will help put cash back in your pocket!  \n\n	 \n\n	featuring: Jon Madsen \n\n	Senior Vice President and Chief Operation Officer\, DATCU\n\n	 \n\n	Understanding your credit is important! Learn how you can impact your credit score and what the difference is between good and bad credit \n\n	 \n\n	When: April 11\, 2012\n\n	Time: 11:30 to 1 p.m. \n\n	Where: Indian Creek \n\n	1650 W. Frankford Rd.\, Carrollton\n\n	 \n\n	Cost: $20 Chamber Members who register before  April 6th\n\n	$30 after April 6th or walkins without advance registration\n\n	 \n\n	Register Online Now
X-ALT-DESC;FMTTYPE=text/html:<p style="text-align: center">\n	<span style="font-size: 16px"><span style="font-family: comic sans ms"><span style="color: #008080"><strong><span style="font-family: 'arial'\,'sans-serif'\; color: #5e0069">Women&#39\;s Division&nbsp\;</span></strong></span></span></span><span style="font-family: comic sans ms"><span style="font-size: 14px"><span style="color: #008080"><span style="font-size: 16px"><span color="#5e0069"><strong><span style="font-family: 'arial'\,'sans-serif'\; color: #5e0069">Luncheon</span></strong></span></span></span></span></span><br />\n	<span style="font-family: comic sans ms"><span style="font-size: 14px"><span style="color: #008080"><span style="font-size: 16px"><span color="#5e0069"><em><b><span style="font-family: 'arial'\,'sans-serif'\; color: #ff6600">What&#39\;s</span></b></em></span></span></span></span></span><span style="font-family: comic sans ms"><span style="font-size: 14px"><span style="color: #008080"><span style="font-size: 16px"><span color="#5e0069"><em><b><span style="font-family: 'arial'\,'sans-serif'\; color: #ff6600">&nbsp\;Your Number?</span></b></em><strong><span style="font-family: 'arial'\,'sans-serif'\; color: #5e0069">&nbsp\;</span></strong></span></span></span></span></span><br />\n	<span style="font-family: comic sans ms"><span style="font-size: 14px"><span style="color: #008080"><span style="font-size: 16px"><span color="#5e0069"><strong><span style="font-family: 'arial'\,'sans-serif'\; color: #5e0069">Confused about your credit score?&nbsp\;</span></strong></span></span></span></span></span><span style="font-family: comic sans ms"><span style="font-size: 14px"><span style="color: #008080"><span color="#5e0069"><strong><span style="font-family: 'arial'\,'sans-serif'\; color: #5e0069\; font-size: 22pt">&nbsp\;</span></strong></span></span></span></span></p>\n<p align="center" style="text-align: center\; margin: 0in 0in 0pt">\n	<span style="font-family: comic sans ms"><span style="font-size: 14px"><span style="color: #008080"><span style="font-size: 16px"><strong><span style="font-family: 'arial'\,'sans-serif'\; color: green"><span color="#5e0069">Learn how to&nbsp\;improve your&nbsp\;credit score<br />\n	which&nbsp\;will&nbsp\;help&nbsp\;put cash&nbsp\;back in your pocket!</span></span></strong><span style="font-family: 'arial'\,'sans-serif'\; color: green">&nbsp\;</span><span style="font-family: 'arial'\,'sans-serif'\; color: black">&nbsp\;</span></span></span></span></span></p>\n<p align="center" style="text-align: center\; margin: 0in 0in 0pt">\n	<span style="font-family: comic sans ms"><span style="font-size: 14px"><span style="color: #008080"><span style="font-size: 16px"><strong><span style="font-family: 'arial'\,'sans-serif'\; color: black">&nbsp\;</span></strong></span></span></span></span></p>\n<p align="center" style="text-align: center\; margin: 0in 0in 0pt">\n	<span style="font-family: comic sans ms"><span style="font-size: 14px"><span style="color: #008080"><span style="font-size: 16px"><strong><span style="font-family: 'arial'\,'sans-serif'\; color: black">featuring: Jon Madsen</span></strong><span style="font-family: 'arial'\,'sans-serif'\; color: black">&nbsp\;</span></span></span></span></span></p>\n<p align="center" style="text-align: center\; margin: 0in 0in 0pt">\n	<span style="font-family: comic sans ms"><span style="font-size: 14px"><span style="color: #008080"><span style="font-size: 16px"><span style="font-family: 'arial'\,'sans-serif'\; color: black">Senior Vice President and Chief Operation Officer\, </span></span></span></span></span><span style="font-family: comic sans ms"><span style="font-size: 14px"><span style="color: #008080"><span style="font-size: 16px"><span style="font-family: 'arial'\,'sans-serif'\; color: black">DATCU<br />\n	&nbsp\;</span></span></span></span></span></p>\n<p align="center" style="text-align: center\; margin: 0in 0in 0pt">\n	<span style="font-family: comic sans ms"><span style="font-size: 14px"><span style="color: #008080"><span style="font-size: 16px"><span style="font-family: 'arial'\,'sans-serif'\; color: black"><span style="font-family: 'arial'\,'sans-serif'\; color: #5e0069\; font-size: 16pt">Understanding your credit is important! Learn how you can impact your credit score and what the difference is between good and bad credit&nbsp\;</span></span></span></span></span></span></p>\n<p align="center" style="text-align: center\; margin: 0in 0in 0pt">\n	<span style="font-family: comic sans ms"><span style="font-size: 14px"><span style="color: #008080"><span style="font-size: 16px"><span style="font-family: 'arial'\,'sans-serif'\; color: black"><span style="font-family: 'arial'\,'sans-serif'\; color: black\; font-size: 8pt">&nbsp\;</span></span></span></span></span></span></p>\n<p align="center" style="text-align: center\; margin: 0in 0in 0pt">\n	<span style="font-family: comic sans ms"><span style="font-size: 14px"><span style="color: #008080"><span style="font-size: 16px"><span style="font-family: 'arial'\,'sans-serif'\; color: black"><strong><span style="font-family: 'arial'\,'sans-serif'\; color: blue\; font-size: 14pt">When:</span></strong><strong><span style="font-family: 'arial'\,'sans-serif'\; color: #ff6600\; font-size: 14pt">&nbsp\;April 11\, 2012</span></strong></span></span></span></span></span></p>\n<p align="center" style="text-align: center\; margin: 0in 0in 0pt">\n	<span style="font-family: comic sans ms"><span style="font-size: 14px"><span style="color: #008080"><span style="font-size: 16px"><span style="font-family: 'arial'\,'sans-serif'\; color: black"><strong><span style="font-family: 'arial'\,'sans-serif'\; color: blue\; font-size: 14pt">Time: </span></strong><strong><span style="font-family: 'arial'\,'sans-serif'\; color: #ff6600\; font-size: 14pt">11:30 to 1 p.m.&nbsp\;</span></strong></span></span></span></span></span></p>\n<p align="center" style="text-align: center\; margin: 0in 0in 0pt">\n	<span style="font-family: comic sans ms"><span style="font-size: 14px"><span style="color: #008080"><span style="font-size: 16px"><span style="font-family: 'arial'\,'sans-serif'\; color: black"><strong><span style="font-family: 'arial'\,'sans-serif'\; color: blue\; font-size: 14pt">Where: </span></strong><strong><span style="font-family: 'arial'\,'sans-serif'\; color: #ff6600\; font-size: 14pt">Indian Creek</span></strong><span style="font-family: 'arial'\,'sans-serif'\; color: #ff6600\; font-size: 14pt">&nbsp\;</span></span></span></span></span></span></p>\n<p align="center" style="text-align: center\; margin: 0in 0in 0pt">\n	<span style="font-family: comic sans ms"><span style="font-size: 14px"><span style="color: #008080"><span style="font-size: 16px"><span style="font-family: 'arial'\,'sans-serif'\; color: black"><em><span style="font-family: 'arial'\,'sans-serif'\; color: blue\; font-size: 14pt">1650 W. Frankford Rd.\, Carrollton</span></em></span></span></span></span></span></p>\n<p align="center" style="text-align: center\; margin: 0in 0in 0pt">\n	<span style="font-family: comic sans ms"><span style="font-size: 14px"><span style="color: #008080"><span style="font-size: 16px"><span style="font-family: 'arial'\,'sans-serif'\; color: black"><span style="font-family: 'arial'\,'sans-serif'\; color: blue\; font-size: 14pt">&nbsp\;</span></span></span></span></span></span></p>\n<p align="center" style="text-align: center\; margin: 0in 0in 0pt">\n	<span style="font-family: comic sans ms"><span style="font-size: 14px"><span style="color: #008080"><span style="font-size: 16px"><span style="font-family: 'arial'\,'sans-serif'\; color: black"><span style="font-family: 'arial'\,'sans-serif'\; color: blue\; font-size: 14pt">Cost: $20 Chamber Members who register before &nbsp\;April 6th</span></span></span></span></span></span></p>\n<p align="center" style="text-align: center\; margin: 0in 0in 0pt">\n	<span style="font-family: comic sans ms"><span style="font-size: 14px"><span style="color: #008080"><span style="font-size: 16px"><span style="font-family: 'arial'\,'sans-serif'\; color: black"><span style="font-family: 'arial'\,'sans-serif'\; color: blue\; font-size: 14pt">$30 after April 6th or walkins without advance registration</span></span></span></span></span></span></p>\n<p align="center" style="text-align: center\; margin: 0in 0in 0pt">\n	<span style="font-family: comic sans ms"><span style="font-size: 14px"><span style="color: #008080"><span style="font-size: 16px"><span style="font-family: 'arial'\,'sans-serif'\; color: black"><span style="font-family: 'arial'\,'sans-serif'\; color: navy">&nbsp\;</span></span></span></span></span></span></p>\n<p align="center" style="text-align: center\; margin: 0in 0in 0pt">\n	<span style="font-family: comic sans ms"><span style="font-size: 14px"><span style="color: #008080"><span style="font-size: 16px"><span style="font-family: 'arial'\,'sans-serif'\; color: black"><u><span style="font-family: 'arial'\,'sans-serif'\; color: navy"><a href="http://r20.rs6.net/tn.jsp?et=1109548608286&amp\;s=0&amp\;e=001svKXeuWrwiW0RQ7XViybgAWpVm88Wk9_4NHzE5TUkn9mIH-4ougX-wAo21ka5wKBfwfnwZPj7nam8GM3I5-lyu63haH7sqZyQNVtZDFQepanv2Wnskfbt7A98FPN3DIgADzPo6iYN9NhzQFxLW-2DVniZUJtOf7nN_yrbiFO7QLSZM2vwz7h_O_9vCWYp-bi" linktype="1" shape="rect" target="_blank" track="on"><i><span style="color: navy">Register Online Now</span></i></a></span></u></span></span></span></span></span></p>\n<p align="center" style="text-align: center\; margin: 0in 0in 0pt">\n	<br />\n	&nbsp\;</p>\n
LOCATION:Where: Indian Creek 1650 W. Frankford Rd.\, Carrollton
UID:e.437.2295
SEQUENCE:3
DTSTAMP:20260421T052432Z
URL:https://business.lewisvillechamber.org/events/details/women-s-division-luncheon-04-11-2012-2295
END:VEVENT

END:VCALENDAR
