BEGIN:VCALENDAR
VERSION:2.0
PRODID:-//ChamberMaster//Event Calendar 2.0//EN
METHOD:PUBLISH
X-PUBLISHED-TTL:P3D
REFRESH-INTERVAL:P3D
CALSCALE:GREGORIAN
BEGIN:VEVENT
DTSTART:20120327T130000Z
DTEND:20120327T220000Z
X-MICROSOFT-CDO-ALLDAYEVENT:FALSE
SUMMARY:Waste Management Open House!
DESCRIPTION:Walk-Ins Welcome!\n\nWaste Management of Lewisville is Hiring Technicians and CDL Drivers!  Ferris and Ft. Worth facilities will also be looking for Drivers!\n\n\n\nDrivers: Must be 21+\, have a clean driving record and valid CDL\, and have 1+ yrs experience\n\nTechs: Must be 21+\, have 1+ yrs experience working on diesel engines and heavy trucks\, and must supply own tools
X-ALT-DESC;FMTTYPE=text/html:Walk-Ins Welcome!<br />\nWaste Management of Lewisville&nbsp\;is Hiring Technicians and CDL Drivers!&nbsp\; Ferris and Ft. Worth facilities will also be looking for Drivers!<br />\n<br />\nDrivers: Must be 21+\, have a clean driving record and valid CDL\, and have 1+ yrs experience<br />\nTechs: Must be 21+\, have 1+ yrs experience working on diesel engines and heavy trucks\, and must supply own tools
LOCATION:Lewisville Service Center 1601 South Railroad Lewisville\, TX 75067
UID:e.437.1732
SEQUENCE:3
DTSTAMP:20260421T154625Z
URL:https://business.lewisvillechamber.org/events/details/waste-management-open-house-03-27-2012-1732
END:VEVENT

END:VCALENDAR
