BEGIN:VCALENDAR
VERSION:2.0
PRODID:-//ChamberMaster//Event Calendar 2.0//EN
METHOD:PUBLISH
X-PUBLISHED-TTL:P3D
REFRESH-INTERVAL:P3D
CALSCALE:GREGORIAN
BEGIN:VEVENT
DTSTART:20240912T130000Z
DTEND:20240912T143000Z
X-MICROSOFT-CDO-ALLDAYEVENT:FALSE
SUMMARY:United Way Denton County Kickoff Breakfast
DESCRIPTION:Part 2 of a series of Kickoff Breakfasts featuring Denton County Conversations to discuss the needs in Denton County and thank the hard work of our 2024 Pacesetter Campaign Partners who ran their United Way fundraising campaigns during the summer to set the tone for the year.
X-ALT-DESC;FMTTYPE=text/html:Part 2 of a series of Kickoff Breakfasts featuring Denton County Conversations to discuss the needs in Denton County and thank the hard work of our 2024 Pacesetter Campaign Partners who ran their United Way fundraising campaigns during the summer to set the tone for the year.
LOCATION:Hilton Lewisville Convention Center
UID:e.437.30005
SEQUENCE:3
DTSTAMP:20260420T164415Z
URL:https://business.lewisvillechamber.org/events/details/united-way-denton-county-kickoff-breakfast-30005
END:VEVENT

END:VCALENDAR
