BEGIN:VCALENDAR
VERSION:2.0
PRODID:-//ChamberMaster//Event Calendar 2.0//EN
METHOD:PUBLISH
X-PUBLISHED-TTL:P3D
REFRESH-INTERVAL:P3D
CALSCALE:GREGORIAN
BEGIN:VEVENT
DTSTART:20120425T210000Z
DTEND:20120426T000000Z
X-MICROSOFT-CDO-ALLDAYEVENT:FALSE
SUMMARY:SSA Spring Networking Mixer
DESCRIPTION:SSA Spring Networking Mixer \n\n\n\nConnecting vendors to better serve the Seniors in the Greater Lewisville Community.\n\n\n\n\n	Appetizers and drinks served.
X-ALT-DESC;FMTTYPE=text/html:<span style="color: #ff0000"><strong><span style="font-family: comic sans ms"><span style="font-size: 14px">SSA Spring Networking Mixer </span></span></strong></span><br />\n<br />\n<span style="color: #006400"><strong><span style="font-family: comic sans ms"><span style="font-size: 14px">Connecting vendors to better serve the Seniors in the Greater Lewisville Community.</span></span></strong></span><br />\n<br />\n<p style="text-align: center">\n	<span style="color: #006400"><span style="font-size: 12px"><span style="font-family: comic sans ms"><strong>Appetizers and drinks served</strong>.</span></span></span></p>\n<br />\n
LOCATION:Chasin' Tail BBQ 8656 S. Stemmons Fwy Hickory Creek\, TX 75065
UID:e.437.2294
SEQUENCE:3
DTSTAMP:20260421T034349Z
URL:https://business.lewisvillechamber.org/events/details/ssa-spring-networking-mixer-04-25-2012-2294
END:VEVENT

END:VCALENDAR
