BEGIN:VCALENDAR
VERSION:2.0
PRODID:-//ChamberMaster//Event Calendar 2.0//EN
METHOD:PUBLISH
X-PUBLISHED-TTL:P3D
REFRESH-INTERVAL:P3D
CALSCALE:GREGORIAN
BEGIN:VEVENT
DTSTART:20120507T233000Z
DTEND:20120508T010000Z
X-MICROSOFT-CDO-ALLDAYEVENT:FALSE
SUMMARY:Solving Shoulder\, Hip\, and Knee Pain
DESCRIPTION:Join us for a fun and informative evening with huest speaker\, Dr. James Heerwagen\, Orthopedic Surgeon.  Register by email to shawn.hoffman@hcahealthcare.com or 972-420-1880.  A light dinner will be served.
X-ALT-DESC;FMTTYPE=text/html:Join us for a fun and informative evening with huest speaker\, Dr. James Heerwagen\, Orthopedic Surgeon.&nbsp\; Register by email to <a href="mailto:shawn.hoffman@hcahealthcare">shawn.hoffman@hcahealthcare</a>.com or 972-420-1880.&nbsp\; A light dinner will be served.&nbsp\; 
LOCATION:Medical Center of Lewisville 2nd Floor Community Room
UID:e.437.2303
SEQUENCE:3
DTSTAMP:20260421T125953Z
URL:https://business.lewisvillechamber.org/events/details/solving-shoulder-hip-and-knee-pain-05-07-2012-2303
END:VEVENT

END:VCALENDAR
