BEGIN:VCALENDAR
VERSION:2.0
PRODID:-//ChamberMaster//Event Calendar 2.0//EN
METHOD:PUBLISH
X-PUBLISHED-TTL:P3D
REFRESH-INTERVAL:P3D
CALSCALE:GREGORIAN
BEGIN:VEVENT
DTSTART:20140513T140000Z
DTEND:20140513T170000Z
X-MICROSOFT-CDO-ALLDAYEVENT:FALSE
SUMMARY:Small Business Summit - Web.com (Byron Nelson)
DESCRIPTION:You are invited to join the Web.com Small Business Summit. This interactive Summit will focus on helping local small businesses learn how to successfully market their business online.  We're here for one reason: to help small businesses succeed online. With over 3 million customers and 30 years of experience\, we know what small businesses need to succeed on the web.  There is no charge and attendees receive a free any day pass to the Byron Nelson PGA tournament.
X-ALT-DESC;FMTTYPE=text/html:You are invited to join the Web.com Small Business Summit. This interactive Summit will focus on helping local small businesses learn how to successfully market their business online.&nbsp\; We&#39\;re here for one reason: to help small businesses succeed online. With over 3 million customers and 30 years of experience\, we know what small businesses need to succeed on the web.&nbsp\; There is no charge and <strong>attendees receive a free any day pass to the Byron Nelson PGA tournament.</strong>
LOCATION:Champions Guest Tent\, TPC Four Seasons Resort \, Irving\, TX
UID:e.437.2684
SEQUENCE:3
DTSTAMP:20260419T134152Z
URL:https://business.lewisvillechamber.org/events/details/small-business-summit-web-com-byron-nelson-05-13-2014-2684
END:VEVENT

END:VCALENDAR
