BEGIN:VCALENDAR
VERSION:2.0
PRODID:-//ChamberMaster//Event Calendar 2.0//EN
METHOD:PUBLISH
X-PUBLISHED-TTL:P3D
REFRESH-INTERVAL:P3D
CALSCALE:GREGORIAN
BEGIN:VEVENT
DTSTART:20120928T140000Z
DTEND:20120928T170000Z
X-MICROSOFT-CDO-ALLDAYEVENT:FALSE
SUMMARY:SCORE
DESCRIPTION:SCORE "Counselors to America's Small Business" is a nonprofit association dedicated to educating entrepreneurs and the formation\, growth and success of small business nationwide. SCORE is a resource partner with the U.S. Small Business Administration (SBA).SCORE Counseling. Call the Chamber to schedule your one-on-one counseling appointment with a SCORE professional.  These are one-hour sessions held between 9:00 a.m. and 1:00 p.m. on Friday's.
X-ALT-DESC;FMTTYPE=text/html:<div>SCORE &quot\;Counselors to America's Small Business&quot\;&nbsp\;is a nonprofit association dedicated to educating entrepreneurs and the formation\, growth and success of small business nationwide. SCORE is a resource partner with the U.S. Small Business Administration (SBA).SCORE Counseling.</div><div>&nbsp\;</div><div>Call the Chamber to schedule your one-on-one counseling appointment with a SCORE professional.&nbsp\; These are one-hour sessions held between 9:00 a.m. and 1:00 p.m. on Friday's.</div>
LOCATION:Lewisville Area Chamber of Commerce\, 551 North Valley Pkwy\, Lewisville
UID:e.437.1078
SEQUENCE:3
DTSTAMP:20260420T194532Z
URL:https://business.lewisvillechamber.org/events/details/score-09-28-2012-1078
END:VEVENT

END:VCALENDAR
