BEGIN:VCALENDAR
VERSION:2.0
PRODID:-//ChamberMaster//Event Calendar 2.0//EN
METHOD:PUBLISH
X-PUBLISHED-TTL:P3D
REFRESH-INTERVAL:P3D
CALSCALE:GREGORIAN
BEGIN:VEVENT
DTSTART:20260421T200000Z
DTEND:20260421T210000Z
X-MICROSOFT-CDO-ALLDAYEVENT:FALSE
SUMMARY:Ribbon Cutting - Wyatt Purp Cannabis Dispensary
DESCRIPTION:
X-ALT-DESC;FMTTYPE=text/html:
LOCATION:543 Bennett Ln #100 Lewisville\, TX 75057
UID:e.437.31234
SEQUENCE:3
DTSTAMP:20260420T223552Z
URL:https://business.lewisvillechamber.org/events/details/ribbon-cutting-wyatt-purp-cannabis-dispensary-31234
END:VEVENT

END:VCALENDAR
