BEGIN:VCALENDAR
VERSION:2.0
PRODID:-//ChamberMaster//Event Calendar 2.0//EN
METHOD:PUBLISH
X-PUBLISHED-TTL:P3D
REFRESH-INTERVAL:P3D
CALSCALE:GREGORIAN
BEGIN:VEVENT
DTSTART:20100902T163000Z
DTEND:20100902T180000Z
X-MICROSOFT-CDO-ALLDAYEVENT:FALSE
SUMMARY:Ribbon Cutting - Paradise Settlement Services
DESCRIPTION:Join us in welcoming our newest Diamond Major Investor\, Paradise Settlement Services to the Chamber.  We will have Chris McLucas's official ribbon cutting at 11:30   lunch will be served.  They are located inside the Atrium Executive Business Center   at Corporate and I-35 East (northbound).  Everyone is welcomed and encouraged to attend!
X-ALT-DESC;FMTTYPE=text/html:<p><span style="font-family: &rsquo\;Arial&rsquo\;\,&rsquo\;sans-serif&rsquo\;\; font-size: 10pt">Join us in welcoming our newest Diamond Major Investor\, Paradise Settlement Services to the Chamber.<span style="mso-spacerun: yes">&nbsp\; </span>We will have Chris McLucas&rsquo\;s official ribbon cutting at 11:30 &ndash\; lunch will be served. <o:p></o:p></span></p><p class="MsoNormal" style="margin: 0in 0in 0pt\; mso-layout-grid-align: none"><span style="font-family: &rsquo\;Arial&rsquo\;\,&rsquo\;sans-serif&rsquo\;\; font-size: 10pt"><o:p>&nbsp\;</o:p></span></p><p class="MsoNormal" style="margin: 0in 0in 0pt\; mso-layout-grid-align: none"><span style="font-family: &rsquo\;Arial&rsquo\;\,&rsquo\;sans-serif&rsquo\;\; font-size: 10pt">They are located inside the Atrium Executive Business Center &ndash\; at Corporate and I-35 East (northbound). </span></p><p class="MsoNormal" style="margin: 0in 0in 0pt\; mso-layout-grid-align: none">&nbsp\;</p><p class="MsoNormal" style="text-align: center\; margin: 0in 0in 0pt\; mso-layout-grid-align: none"><span style="font-family: &rsquo\;Arial&rsquo\;\,&rsquo\;sans-serif&rsquo\;\; font-size: 10pt"><strong><em>Everyone is welcomed and encouraged to attend! </em></strong></span></p>
LOCATION:
UID:e.437.1532
SEQUENCE:3
DTSTAMP:20260422T080922Z
URL:https://business.lewisvillechamber.org/events/details/ribbon-cutting-paradise-settlement-services-09-02-2010-1532
END:VEVENT

END:VCALENDAR
