BEGIN:VCALENDAR
VERSION:2.0
PRODID:-//ChamberMaster//Event Calendar 2.0//EN
METHOD:PUBLISH
X-PUBLISHED-TTL:P3D
REFRESH-INTERVAL:P3D
CALSCALE:GREGORIAN
BEGIN:VEVENT
DTSTART:20100915T213000Z
DTEND:20100916T000000Z
X-MICROSOFT-CDO-ALLDAYEVENT:FALSE
SUMMARY:Ribbon Cutting & Open House: Envoy Mortgage
DESCRIPTION:Join us today to welcome Michael Bolton and John Lyng\, Envoy Mortgage\, 101 West Main Street to the Lewisville Chamber.  We will hold their official ribbon cutting ceremony at 4:30 p.m.  Following\, there will be a come and go Open House until 7:00 p.m. Everyone is welcomed and encouraged to attend!
X-ALT-DESC;FMTTYPE=text/html:<div><span style="font-size: larger">Join us today to welcome&nbsp\;Michael Bolton and John Lyng\, Envoy Mortgage\, 101 West Main Street&nbsp\;to the Lewisville Chamber. </span></div><div>&nbsp\;</div><div><span style="font-size: larger">We will hold their official ribbon cutting ceremony at 4:30 p.m.&nbsp\; Following\, there will be a come and go Open House until 7:00 p.m.</span></div><div>&nbsp\;</div><div style="text-align: center"><span style="font-size: larger"><em><strong>Everyone is welcomed and encouraged to attend!</strong></em></span><em><strong> </strong></em></div>
LOCATION:
UID:e.437.1531
SEQUENCE:3
DTSTAMP:20260422T075441Z
URL:https://business.lewisvillechamber.org/events/details/ribbon-cutting-open-house-envoy-mortgage-09-15-2010-1531
END:VEVENT

END:VCALENDAR
