BEGIN:VCALENDAR
VERSION:2.0
PRODID:-//ChamberMaster//Event Calendar 2.0//EN
METHOD:PUBLISH
X-PUBLISHED-TTL:P3D
REFRESH-INTERVAL:P3D
CALSCALE:GREGORIAN
BEGIN:VEVENT
DTSTART:20120425T150000Z
DTEND:20120425T160000Z
X-MICROSOFT-CDO-ALLDAYEVENT:FALSE
SUMMARY:Ribbon Cutting & Open House
DESCRIPTION:Come join us as we welcome: \n\n	Prince Cleaners\n\n	601 Cross Timbers Rd.\, #118\n\n	Flower Mound\nto the Chamber with a Ribbon Cutting and Open House.  Breakfast appetizers will be served.
X-ALT-DESC;FMTTYPE=text/html:<span style="font-family: comic sans ms"><span style="font-size: 14px">Come join us as we welcome: </span></span>\n<p style="text-align: center">\n	<span style="font-family: comic sans ms"><span style="font-size: 14px"><span style="color: #0000ff"><strong>Prince Cleaners<br />\n	601 Cross Timbers Rd.\, #118<br />\n	Flower Mound</strong></span></span></span></p>\n<span style="font-family: comic sans ms"><span style="font-size: 14px">to the Chamber with a Ribbon Cutting and Open House.&nbsp\; Breakfast appetizers will be served.</span></span>
LOCATION:Prince Cleaners 601 Cross Timbers\, #118 Flower Mound
UID:e.437.2300
SEQUENCE:3
DTSTAMP:20260421T034746Z
URL:https://business.lewisvillechamber.org/events/details/ribbon-cutting-open-house-04-25-2012-2300
END:VEVENT

END:VCALENDAR
