BEGIN:VCALENDAR
VERSION:2.0
PRODID:-//ChamberMaster//Event Calendar 2.0//EN
METHOD:PUBLISH
X-PUBLISHED-TTL:P3D
REFRESH-INTERVAL:P3D
CALSCALE:GREGORIAN
BEGIN:VEVENT
DTSTART:20120321T213000Z
DTEND:20120322T010000Z
X-MICROSOFT-CDO-ALLDAYEVENT:FALSE
SUMMARY:RIBBON CUTTING/GRAND OPENING
DESCRIPTION:RIBBON CUTTING AND GRAND OPENING \n\n	HUFFINES CHEVROLET  -  1400 S. I35E  Lewisville\n\n	 NOTE:   There will be plenty of food\, live music\, fun\, door prizes and fellowship This event is from 5-8P.  The ribbon cutting with be at 5:00PM sharp!
X-ALT-DESC;FMTTYPE=text/html:<span style="color: #ff0000"><span style="font-size: 14px"><span style="font-family: comic sans ms"><strong>RIBBON CUTTING AND GRAND OPENING</strong> </span></span></span>\n<p style="text-align: center">\n	<span style="color: #0000ff"><span style="font-size: 14px"><span style="font-family: comic sans ms">HUFFINES CHEVROLET&nbsp\; -&nbsp\; 1400 S. I35E&nbsp\; Lewisville</span></span></span><br />\n	&nbsp\;<span style="font-size: 12pt"><span style="font-family: comic sans ms"><strong>NOTE</strong>:&nbsp\;&nbsp\; There will be plenty of food\, live music\, fun\, door prizes and fellowship&hellip\;This event is from 5-8P.&nbsp\; The ribbon cutting with be at 5:00PM sharp!</span></span><br />\n	&nbsp\;</p>\n
LOCATION:HUFFINES CHEVROLET 1400 S. I35E Lewisville
UID:e.437.2277
SEQUENCE:3
DTSTAMP:20260421T052947Z
URL:https://business.lewisvillechamber.org/events/details/ribbon-cutting-grand-opening-03-21-2012-2277
END:VEVENT

END:VCALENDAR
