BEGIN:VCALENDAR
VERSION:2.0
PRODID:-//ChamberMaster//Event Calendar 2.0//EN
METHOD:PUBLISH
X-PUBLISHED-TTL:P3D
REFRESH-INTERVAL:P3D
CALSCALE:GREGORIAN
BEGIN:VEVENT
DTSTART:20100827T150000Z
DTEND:20100827T153000Z
X-MICROSOFT-CDO-ALLDAYEVENT:FALSE
SUMMARY:Ribbon Cutting - Creative Brow
DESCRIPTION:Join us today to celebrate the Grand Opening of Creative Brows\, Inc. to the Chamber with an official Ribbon Cutting Ceremony!  Creative Brows is located inside the Wal-Mart Super Center at 190 East FM 3040\, Lewisville.  Everyone is welcomed and encouraged to attend!
X-ALT-DESC;FMTTYPE=text/html:<div><span style="font-size: larger">Join us today to&nbsp\;celebrate the Grand Opening of&nbsp\;Creative Brows\, Inc. to the Chamber with an official Ribbon Cutting Ceremony!&nbsp\;&nbsp\;Creative Brows is located inside the Wal-Mart Super Center at 190 East FM 3040\, Lewisville. </span><span style="font-size: larger">&nbsp\;</span></div><div style="text-align: center"><span style="font-size: larger"><em><strong>Everyone is welcomed and encouraged to attend!</strong></em></span><em><strong> </strong></em></div>
LOCATION:
UID:e.437.1527
SEQUENCE:3
DTSTAMP:20260422T091841Z
URL:https://business.lewisvillechamber.org/events/details/ribbon-cutting-creative-brow-08-27-2010-1527
END:VEVENT

END:VCALENDAR
