BEGIN:VCALENDAR
VERSION:2.0
PRODID:-//ChamberMaster//Event Calendar 2.0//EN
METHOD:PUBLISH
X-PUBLISHED-TTL:P3D
REFRESH-INTERVAL:P3D
CALSCALE:GREGORIAN
BEGIN:VEVENT
DTSTART:20120308T170000Z
DTEND:20120308T180000Z
X-MICROSOFT-CDO-ALLDAYEVENT:FALSE
SUMMARY:Ribbon Cutting and Open House
DESCRIPTION:Join us today for a  Ribbon Cutting and Open House for\n\n\n\nSidecar Catering       2488 Meadowglen Drive\, Suite 203\n\n\n\nAppetizers will be served.
X-ALT-DESC;FMTTYPE=text/html:<span style="font-family: comic sans ms"><span style="font-size: 14px">Join us today for a&nbsp\; <span style="color: #ff0000">Ribbon Cutting and Open House </span>for<br />\n<br />\n<span style="font-size: 16px"><strong><span style="color: #0000ff">Sidecar Catering&nbsp\;&nbsp\;&nbsp\;&nbsp\;&nbsp\;&nbsp\; </span></strong></span>2488 Meadowglen Drive\, Suite 203<br />\n<br />\nAppetizers will be served.</span></span>
LOCATION:2488 Meadowglen Drive\, Suite 203 (across from the Convergence Building) Lewisville
UID:e.437.2136
SEQUENCE:3
DTSTAMP:20260421T053933Z
URL:https://business.lewisvillechamber.org/events/details/ribbon-cutting-and-open-house-03-08-2012-2136
END:VEVENT

END:VCALENDAR
