BEGIN:VCALENDAR
VERSION:2.0
PRODID:-//ChamberMaster//Event Calendar 2.0//EN
METHOD:PUBLISH
X-PUBLISHED-TTL:P3D
REFRESH-INTERVAL:P3D
CALSCALE:GREGORIAN
BEGIN:VEVENT
DTSTART:20120313T160000Z
DTEND:20120313T170000Z
X-MICROSOFT-CDO-ALLDAYEVENT:FALSE
SUMMARY:Ribbon Cutting - 9 Social
DESCRIPTION:Come join Highland Village Business Association\, Flower Mound Chamber and the Lewisville Chamber as we welcome 9 Social with a Ribbon Cutting\n\n\n\n2300 Highland Village Rd.\, Ste 900\n\nLunch will be served.
X-ALT-DESC;FMTTYPE=text/html:<span style="font-family: comic sans ms"><span style="font-size: 14px">Come join&nbsp\;Highland Village Business Association\, Flower Mound Chamber and&nbsp\;the Lewisville Chamber as&nbsp\;we welcome <span style="font-size: 16px"><strong><span style="color: #0000ff">9 Social </span></strong>with a Ribbon Cutting<br />\n<br />\n2300 Highland Village Rd.\, Ste 900<br />\nLunch will be served.</span></span></span>
LOCATION:2300 Highland Village Rd.\, Ste 900 Highland Village
UID:e.437.2284
SEQUENCE:3
DTSTAMP:20260421T052839Z
URL:https://business.lewisvillechamber.org/events/details/ribbon-cutting-9-social-03-13-2012-2284
END:VEVENT

END:VCALENDAR
