BEGIN:VCALENDAR
VERSION:2.0
PRODID:-//ChamberMaster//Event Calendar 2.0//EN
METHOD:PUBLISH
X-PUBLISHED-TTL:P3D
REFRESH-INTERVAL:P3D
CALSCALE:GREGORIAN
BEGIN:VEVENT
DTSTART:20110402T160000Z
DTEND:20110402T190000Z
X-MICROSOFT-CDO-ALLDAYEVENT:FALSE
SUMMARY:Rhapsody in Blue Fundraiser
DESCRIPTION:Annual fundraiser for Friends of the Family\, featuring Tiffany & Co.
X-ALT-DESC;FMTTYPE=text/html:Annual fundraiser for Friends of the Family\, featuring Tiffany & Co.
LOCATION:Hilton Garden Inn
UID:e.437.1515
SEQUENCE:3
DTSTAMP:20260421T224756Z
URL:https://business.lewisvillechamber.org/events/details/rhapsody-in-blue-fundraiser-04-02-2011-1515
END:VEVENT

END:VCALENDAR
