BEGIN:VCALENDAR
VERSION:2.0
PRODID:-//ChamberMaster//Event Calendar 2.0//EN
METHOD:PUBLISH
X-PUBLISHED-TTL:P3D
REFRESH-INTERVAL:P3D
CALSCALE:GREGORIAN
BEGIN:VEVENT
DTSTART:20220402T130000Z
DTEND:20220402T170000Z
X-MICROSOFT-CDO-ALLDAYEVENT:FALSE
SUMMARY:RESCHEDULING-Main Hall Rental -
DESCRIPTION:
X-ALT-DESC;FMTTYPE=text/html:
LOCATION:
UID:e.437.28712
SEQUENCE:3
DTSTAMP:20260424T003617Z
URL:https://business.lewisvillechamber.org/events/details/rescheduling-main-hall-rental-28712
END:VEVENT

END:VCALENDAR
