BEGIN:VCALENDAR
VERSION:2.0
PRODID:-//ChamberMaster//Event Calendar 2.0//EN
METHOD:PUBLISH
X-PUBLISHED-TTL:P3D
REFRESH-INTERVAL:P3D
CALSCALE:GREGORIAN
BEGIN:VEVENT
DTSTART:20130212T160000Z
DTEND:20130212T180000Z
X-MICROSOFT-CDO-ALLDAYEVENT:FALSE
SUMMARY:Open House
DESCRIPTION:Open House and Promotion of Drawing for a "FREE FLAT SCREEN TV"
X-ALT-DESC;FMTTYPE=text/html:<h3 style="color: blue">\n	Open House and Promotion of Drawing for a &quot\;FREE FLAT SCREEN TV&quot\;&nbsp\;<br />\n	&nbsp\;&nbsp\;</h3>\n
LOCATION:4051 Kirkpatrick Ln Suite 100 Flower Mound Texas 75028
UID:e.437.2420
SEQUENCE:3
DTSTAMP:20260420T122957Z
URL:https://business.lewisvillechamber.org/events/details/open-house-02-12-2013-2420
END:VEVENT

END:VCALENDAR
