BEGIN:VCALENDAR
VERSION:2.0
PRODID:-//ChamberMaster//Event Calendar 2.0//EN
METHOD:PUBLISH
X-PUBLISHED-TTL:P3D
REFRESH-INTERVAL:P3D
CALSCALE:GREGORIAN
BEGIN:VEVENT
DTSTART:20101030T130000Z
DTEND:20101030T170000Z
X-MICROSOFT-CDO-ALLDAYEVENT:FALSE
SUMMARY:Old Town Lewisville Farmers Market
DESCRIPTION:The Old Town Lewisville Farmers Market has a variety of North Texas-grown products\, as well as pasta\, bakery items\, toffee\, cookies\, and tea. The market runs every Saturday from May until the end of October.
X-ALT-DESC;FMTTYPE=text/html:The Old Town Lewisville Farmers Market has a variety of North Texas-grown products\, as well as pasta\, bakery items\, toffee\, cookies\, and tea. The market runs every Saturday from May until the end of October.
LOCATION:Wayne Ferguson Plaza\, Old Town Lewisville
UID:e.437.1588
SEQUENCE:3
DTSTAMP:20260424T163406Z
URL:https://business.lewisvillechamber.org/events/details/old-town-lewisville-farmers-market-10-30-2010-1588
END:VEVENT

END:VCALENDAR
