BEGIN:VCALENDAR
VERSION:2.0
PRODID:-//ChamberMaster//Event Calendar 2.0//EN
METHOD:PUBLISH
X-PUBLISHED-TTL:P3D
REFRESH-INTERVAL:P3D
CALSCALE:GREGORIAN
BEGIN:VEVENT
DTSTART:20101023T130000Z
DTEND:20101023T170000Z
X-MICROSOFT-CDO-ALLDAYEVENT:FALSE
SUMMARY:Old Town Lewisville Farmers Market
DESCRIPTION:The Old Town Lewisville Farmers Market has a variety of North Texas-grown products\, as well as pasta\, bakery items\, cookies\, and tea. The market runs every Saturday from May until the end of October. For information about the Old Town Lewisville Farmers Market call 972.219.3401.
X-ALT-DESC;FMTTYPE=text/html:The Old Town Lewisville Farmers Market has a variety of North Texas-grown products\, as well as pasta\, bakery items\, cookies\, and tea. The market runs every Saturday from May until the end of October. For information about the Old Town Lewisville Farmers Market call 972.219.3401.\n<br>\n<br>
LOCATION:Wayne Ferguson Plaza\, Old Town Lewisville
UID:e.437.1587
SEQUENCE:3
DTSTAMP:20260424T163421Z
URL:https://business.lewisvillechamber.org/events/details/old-town-lewisville-farmers-market-10-23-2010-1587
END:VEVENT

END:VCALENDAR
