BEGIN:VCALENDAR
VERSION:2.0
PRODID:-//ChamberMaster//Event Calendar 2.0//EN
METHOD:PUBLISH
X-PUBLISHED-TTL:P3D
REFRESH-INTERVAL:P3D
CALSCALE:GREGORIAN
BEGIN:VEVENT
DTSTART:20221125T134500Z
DTEND:20221125T150000Z
X-MICROSOFT-CDO-ALLDAYEVENT:FALSE
SUMMARY:NO LEADS TODAY
DESCRIPTION:
X-ALT-DESC;FMTTYPE=text/html:
LOCATION:551 Event Center 551 N. Valley Parkway Lewisville\, Texas 75067
UID:e.437.28660
SEQUENCE:3
DTSTAMP:20260424T052801Z
URL:https://business.lewisvillechamber.org/events/details/no-leads-today-11-25-2022-28660
END:VEVENT

END:VCALENDAR
