BEGIN:VCALENDAR
VERSION:2.0
PRODID:-//ChamberMaster//Event Calendar 2.0//EN
METHOD:PUBLISH
X-PUBLISHED-TTL:P3D
REFRESH-INTERVAL:P3D
CALSCALE:GREGORIAN
BEGIN:VEVENT
DTSTART:20241129T140000Z
DTEND:20241129T153000Z
X-MICROSOFT-CDO-ALLDAYEVENT:FALSE
SUMMARY:NO LEADS Power Networking
DESCRIPTION:
X-ALT-DESC;FMTTYPE=text/html:
LOCATION:Lewisville Area Chamber of Commerce 551 N Valley Pkwy Lewisville\, TX 75067
UID:e.437.29912
SEQUENCE:3
DTSTAMP:20260420T135752Z
URL:https://business.lewisvillechamber.org/events/details/no-leads-power-networking-11-29-2024-29912
END:VEVENT

END:VCALENDAR
