BEGIN:VCALENDAR
VERSION:2.0
PRODID:-//ChamberMaster//Event Calendar 2.0//EN
METHOD:PUBLISH
X-PUBLISHED-TTL:P3D
REFRESH-INTERVAL:P3D
CALSCALE:GREGORIAN
BEGIN:VEVENT
DTSTART:20120512T150000Z
DTEND:20120512T173000Z
X-MICROSOFT-CDO-ALLDAYEVENT:FALSE
SUMMARY:Mother's Day Tea - Heritage Health Solutions Academic Excellence Foundation
DESCRIPTION:Heritage Health Solutions Academic Excellence Foundation is planning the 2012 Mother's Day Tea to raise funds for college scholarships for 7-11 grade students in the Lewisville/Flower Mound area. The Mother's Day Tea will be an annual event that will provide memorable opportunities for families to enjoy a morning of refreshment and entertainment in a beautiful environment while supporting a worthy cause.\n\n\n\nActivities will include a delicious morning tea menu\, style show and silent auction. Come see some of the latest fashions from Chicks Dig it and Guys do to\, Dress Barn\, Beasley's and more.  There will be a hat contest\, so don't forget to wear your favorite hat. The prize for the hat contest will be from Beasley's Jewelry. If you want to recognize a mother\, please send her picture and it will be in our event slideshow. Send to khook@heritagehealthsolutions.com
X-ALT-DESC;FMTTYPE=text/html:Heritage Health Solutions Academic Excellence Foundation is planning the 2012 Mother&#39\;s Day Tea to raise funds for college scholarships for 7-11 grade students in the Lewisville/Flower Mound area. The Mother&#39\;s Day Tea will be an annual event that will provide memorable opportunities for families to enjoy a morning of refreshment and entertainment in a beautiful environment while supporting a worthy cause.<br />\n<br />\nActivities will include a delicious morning tea menu\, style show and silent auction. Come see some of the latest fashions from Chicks Dig it and Guys do to\, Dress Barn\, Beasley&#39\;s and more.&nbsp\; There will be a hat contest\, so don&#39\;t forget to wear your favorite hat. The prize for the hat contest will be from Beasley&#39\;s Jewelry. If you want to recognize a mother\, please send her picture and it will be in our event slideshow. Send to khook@heritagehealthsolutions.com<br />\n<br />\n
LOCATION:Celebrations 2380 FM 407 Highland Village\, TX 75077
UID:e.437.2306
SEQUENCE:3
DTSTAMP:20260421T130327Z
URL:https://business.lewisvillechamber.org/events/details/mother-s-day-tea-heritage-health-solutions-academic-excellence-foundation-05-12-2012-2306
END:VEVENT

END:VCALENDAR
