BEGIN:VCALENDAR
VERSION:2.0
PRODID:-//ChamberMaster//Event Calendar 2.0//EN
METHOD:PUBLISH
X-PUBLISHED-TTL:P3D
REFRESH-INTERVAL:P3D
CALSCALE:GREGORIAN
BEGIN:VEVENT
DTSTART:20120920T163000Z
DTEND:20120920T180000Z
X-MICROSOFT-CDO-ALLDAYEVENT:FALSE
SUMMARY:Monthly Partnership Luncheon
DESCRIPTION:Dr. Waddell\, LISD Superintendent will be the featured speaker for our Monthly Partnership luncheon on Thursday\, September 20th at 11:30 am at the Medical Center of Lewisville Grand Theater.
X-ALT-DESC;FMTTYPE=text/html:Dr. Waddell\, LISD Superintendent will be the featured speaker for our Monthly Partnership luncheon on <strong>Thursday\, September 20th</strong> at 11:30 am at the Medical Center of Lewisville Grand Theater.
LOCATION:MCL Grand Theater 100 N. Charles St.
UID:e.437.2132
SEQUENCE:3
DTSTAMP:20260420T194854Z
URL:https://business.lewisvillechamber.org/events/details/monthly-partnership-luncheon-09-20-2012-2132
END:VEVENT

END:VCALENDAR
