BEGIN:VCALENDAR
VERSION:2.0
PRODID:-//ChamberMaster//Event Calendar 2.0//EN
METHOD:PUBLISH
X-PUBLISHED-TTL:P3D
REFRESH-INTERVAL:P3D
CALSCALE:GREGORIAN
BEGIN:VEVENT
DTSTART:20120626T163000Z
DTEND:20120626T180000Z
X-MICROSOFT-CDO-ALLDAYEVENT:FALSE
SUMMARY:Monthly Partnership Luncheon
DESCRIPTION:The speaker for our June luncheon will be Dave Lieber.  \n\n	\n\n	 Act Like a Texan: Be a 21st Century Superhero to Your Customers\n\n	 \n\n	The secret to success\, according to Star-Telegram Watchdog columnist Dave Lieber is acting like a Texan. And that says a lot\, considering where the self-described Yankee Cowboy is from. He will show us the simple ingredients to making sure that we stay popular with our customers and the community   and stay out of his newspaper column.\n\n	\n\n	Dave is a columnist who helps people. He exposes wrong doing and right doing. For this\, in 2012\, he won local\, state and national journalism awards. Dave is the founder of Watchdog Nation\, which helps Americans fight for what's right\, and also co-founder of Summer Santa\, one of North Texas' largest children's charities. Learn more about Dave at www.YankeeCowboy.com and www.WatchdogNation.com
X-ALT-DESC;FMTTYPE=text/html:<div style="text-align: center">\n	<span style="font-size: 14px"><span style="font-family: comic sans ms">The speaker for our June luncheon </span><span style="font-family: comic sans ms">will be Dave Lieber.&nbsp\;</span>&nbsp\;<br />\n	<br />\n	&nbsp\;<span style="color: #1f497d">Act Like a Texan: Be a 21st Century Superhero to Your Customers</span><br />\n	&nbsp\;<br />\n	<span style="color: #1f497d">The secret to success\, according to Star-Telegram Watchdog columnist Dave Lieber is acting like a Texan. And that says a lot\, considering where the self-described Yankee Cowboy is from. He will show us the simple ingredients to making sure that we stay popular with our customers and the community &ndash\; and stay out of his newspaper column.</span></span><br />\n	<br />\n	<span style="font-size: 11pt"><span style="color: #1f497d"><span style="font-family: calibri\,sans-serif">Dave is a columnist who helps people. He exposes wrong doing and right doing. For this\, in 2012\, he won local\, state and national journalism awards. Dave is the founder of Watchdog Nation\, which helps Americans fight for what&rsquo\;s right\, and also co-founder of Summer Santa\, one of North Texas&rsquo\; largest children&rsquo\;s charities. Learn more about Dave at <a href="http://www.yankeecowboy.com/">www.YankeeCowboy.com</a> and <a href="http://www.watchdognation.com/">www.WatchdogNation.com</a></span></span></span></div>\n
LOCATION:MCL Grand Theater 100 N. Charles St.
UID:e.437.2129
SEQUENCE:3
DTSTAMP:20260421T010142Z
URL:https://business.lewisvillechamber.org/events/details/monthly-partnership-luncheon-06-26-2012-2129
END:VEVENT

END:VCALENDAR
