BEGIN:VCALENDAR
VERSION:2.0
PRODID:-//ChamberMaster//Event Calendar 2.0//EN
METHOD:PUBLISH
X-PUBLISHED-TTL:P3D
REFRESH-INTERVAL:P3D
CALSCALE:GREGORIAN
BEGIN:VEVENT
DTSTART:20120522T160000Z
DTEND:20120522T180000Z
X-MICROSOFT-CDO-ALLDAYEVENT:FALSE
SUMMARY:Monthly Partnership Luncheon
DESCRIPTION:Texas Department of Transportation\n\n	Nancy Cline - Denton County Area Engineer\n\n	\n\n	The I-35E Project is dedicated to improving mobility along I-35E in a safe\, efficient\, reliable and environmentally sensitive manner.\n\n	Interstate 35E serves the rapidly growing areas of southern and central Denton County\, as well as the major Dallas suburbs immediately north of I-635.\n\n	 \n\n	 suburbs immediately north of I-635.
X-ALT-DESC;FMTTYPE=text/html:<div style="text-align: center">\n	<span style="font-family: comic sans ms"><span style="font-size: 14px"><span style="color: #0000ff">Texas Department of Transportation<br />\n	Nancy Cline - Denton County Area Engineer</span><br />\n	<br />\n	The I-35E Project&nbsp\;is dedicated to improving mobility along I-35E in a safe\, efficient\, reliable and environmentally sensitive manner.<br />\n	Interstate 35E serves the rapidly growing areas of&nbsp\;southern and central Denton County\, as well as the major Dallas suburbs immediately north of I-635.</span></span><br />\n	&nbsp\;</div>\n<div>\n	<span style="font-family: comic sans ms"><span style="font-size: 14px"><span style="font-size: 14pt"><span style="color: white"><span style="font-family: arial\,sans-serif">&nbsp\;suburbs immediately north of I-635.</span></span></span></span></span></div>\n<div style="text-align: center">\n	&nbsp\;</div>\n
LOCATION:MCL Grand Theater 100 N. Charles St.
UID:e.437.2128
SEQUENCE:3
DTSTAMP:20260421T020737Z
URL:https://business.lewisvillechamber.org/events/details/monthly-partnership-luncheon-05-22-2012-2128
END:VEVENT

END:VCALENDAR
