BEGIN:VCALENDAR
VERSION:2.0
PRODID:-//ChamberMaster//Event Calendar 2.0//EN
METHOD:PUBLISH
X-PUBLISHED-TTL:P3D
REFRESH-INTERVAL:P3D
CALSCALE:GREGORIAN
BEGIN:VEVENT
DTSTART:20211031T160000Z
DTEND:20211031T200000Z
X-MICROSOFT-CDO-ALLDAYEVENT:FALSE
SUMMARY:Monster Halloween Bash 2021
DESCRIPTION:Come out and enjoy some spooky fun. We will have spooky games\, Zombie Laser Tag\, face painting\, and much more!!
X-ALT-DESC;FMTTYPE=text/html:Come out and enjoy some spooky fun. We will have spooky games\, Zombie Laser Tag\, face painting\, and much more!!
LOCATION:Main Event Lewisville 2070 S Stermmons\, Lewisville\, TX 75067
UID:e.437.28346
SEQUENCE:3
DTSTAMP:20260423T115437Z
URL:https://business.lewisvillechamber.org/events/details/monster-halloween-bash-2021-28346
END:VEVENT

END:VCALENDAR
