BEGIN:VCALENDAR
VERSION:2.0
PRODID:-//ChamberMaster//Event Calendar 2.0//EN
METHOD:PUBLISH
X-PUBLISHED-TTL:P3D
REFRESH-INTERVAL:P3D
CALSCALE:GREGORIAN
BEGIN:VEVENT
DTSTART:20120502T114500Z
DTEND:20120502T130000Z
X-MICROSOFT-CDO-ALLDAYEVENT:FALSE
SUMMARY:Mayor's Prayer Breakfast
DESCRIPTION:Mayor's Prayer Breakfast
X-ALT-DESC;FMTTYPE=text/html:<span style="font-family: comic sans ms"><span style="font-size: 14px"><span style="color: #0000cd">Mayor&#39\;s Prayer Breakfast</span></span></span>
LOCATION:Lakeland Baptist Church Stemmons Fwy. Lewisville
UID:e.437.1815
SEQUENCE:3
DTSTAMP:20260421T125845Z
URL:https://business.lewisvillechamber.org/events/details/mayor-s-prayer-breakfast-05-02-2012-1815
END:VEVENT

END:VCALENDAR
