BEGIN:VCALENDAR
VERSION:2.0
PRODID:-//ChamberMaster//Event Calendar 2.0//EN
METHOD:PUBLISH
X-PUBLISHED-TTL:P3D
REFRESH-INTERVAL:P3D
CALSCALE:GREGORIAN
BEGIN:VEVENT
DTSTART:20130123T220000Z
DTEND:20130124T000000Z
X-MICROSOFT-CDO-ALLDAYEVENT:FALSE
SUMMARY:Matt's Going Away Party!
DESCRIPTION:Stop by the Chamber from 4PM to 6PM to say farewell to Matt McCormick\, President\, as he heads off to the Columbia Chamber of Commerce! We're sad to see him go\, but so proud of all of the success we have celebrated since Matt joined the Lewisville Chamber in 2007! Appetizers and drinks provided!
X-ALT-DESC;FMTTYPE=text/html:Stop by the Chamber from 4PM to 6PM&nbsp\;to say farewell to Matt McCormick\, President\, as he heads off to the Columbia Chamber of Commerce! We&#39\;re sad to see him go\, but so proud of all of the success we have celebrated since Matt joined the Lewisville Chamber in 2007! Appetizers and drinks provided!
LOCATION:Lewisville Area Chamber of Commerce January 23\, 2013 4 p.m. to 6 p.m.
UID:e.437.2416
SEQUENCE:3
DTSTAMP:20260420T135752Z
URL:https://business.lewisvillechamber.org/events/details/matt-s-going-away-party-01-23-2013-2416
END:VEVENT

END:VCALENDAR
