BEGIN:VCALENDAR
VERSION:2.0
PRODID:-//ChamberMaster//Event Calendar 2.0//EN
METHOD:PUBLISH
X-PUBLISHED-TTL:P3D
REFRESH-INTERVAL:P3D
CALSCALE:GREGORIAN
BEGIN:VEVENT
DTSTART:20220227T140000Z
DTEND:20220227T220000Z
X-MICROSOFT-CDO-ALLDAYEVENT:FALSE
SUMMARY:Main Hall/Lindsay Lounge Rental
DESCRIPTION:
X-ALT-DESC;FMTTYPE=text/html:
LOCATION:
UID:e.437.28365
SEQUENCE:3
DTSTAMP:20260423T231756Z
URL:https://business.lewisvillechamber.org/events/details/main-hall-lindsay-lounge-rental-02-06-2022-28365
END:VEVENT

END:VCALENDAR
