BEGIN:VCALENDAR
VERSION:2.0
PRODID:-//ChamberMaster//Event Calendar 2.0//EN
METHOD:PUBLISH
X-PUBLISHED-TTL:P3D
REFRESH-INTERVAL:P3D
CALSCALE:GREGORIAN
BEGIN:VEVENT
DTSTART:20210916T120000Z
DTEND:20210916T140000Z
X-MICROSOFT-CDO-ALLDAYEVENT:FALSE
SUMMARY:Main Hall Booked - Year Contract
DESCRIPTION:Year Contract 2021 - 2022
X-ALT-DESC;FMTTYPE=text/html:Year Contract 2021 - 2022
LOCATION:
UID:e.437.27357
SEQUENCE:3
DTSTAMP:20260423T172954Z
URL:https://business.lewisvillechamber.org/events/details/main-hall-booked-year-contract-09-16-2021-27357
END:VEVENT

END:VCALENDAR
