BEGIN:VCALENDAR
VERSION:2.0
PRODID:-//ChamberMaster//Event Calendar 2.0//EN
METHOD:PUBLISH
X-PUBLISHED-TTL:P3D
REFRESH-INTERVAL:P3D
CALSCALE:GREGORIAN
BEGIN:VEVENT
DTSTART:20240406T150000Z
DTEND:20240407T040000Z
X-MICROSOFT-CDO-ALLDAYEVENT:FALSE
SUMMARY:Main Hall - Booked
DESCRIPTION:
X-ALT-DESC;FMTTYPE=text/html:
LOCATION:
UID:e.437.30013
SEQUENCE:3
DTSTAMP:20260421T152509Z
URL:https://business.lewisvillechamber.org/events/details/main-hall-booked-30013
END:VEVENT

END:VCALENDAR
