BEGIN:VCALENDAR
VERSION:2.0
PRODID:-//ChamberMaster//Event Calendar 2.0//EN
METHOD:PUBLISH
X-PUBLISHED-TTL:P3D
REFRESH-INTERVAL:P3D
CALSCALE:GREGORIAN
BEGIN:VEVENT
DTSTART:20210921T233000Z
DTEND:20210922T023000Z
X-MICROSOFT-CDO-ALLDAYEVENT:FALSE
SUMMARY:Main Hall Booked
DESCRIPTION:6:30 p.m. - 9:30 p.m.
X-ALT-DESC;FMTTYPE=text/html:6:30 p.m. - 9:30 p.m.
LOCATION:
UID:e.437.28300
SEQUENCE:3
DTSTAMP:20260423T172016Z
URL:https://business.lewisvillechamber.org/events/details/main-hall-booked-28300
END:VEVENT

END:VCALENDAR
