BEGIN:VCALENDAR
VERSION:2.0
PRODID:-//ChamberMaster//Event Calendar 2.0//EN
METHOD:PUBLISH
X-PUBLISHED-TTL:P3D
REFRESH-INTERVAL:P3D
CALSCALE:GREGORIAN
BEGIN:VEVENT
DTSTART:20210918T210000Z
DTEND:20210919T030000Z
X-MICROSOFT-CDO-ALLDAYEVENT:FALSE
SUMMARY:Main Hall Booked
DESCRIPTION:4p-10p
X-ALT-DESC;FMTTYPE=text/html:4p-10p
LOCATION:
UID:e.437.28276
SEQUENCE:3
DTSTAMP:20260423T171322Z
URL:https://business.lewisvillechamber.org/events/details/main-hall-booked-28276
END:VEVENT

END:VCALENDAR
