BEGIN:VCALENDAR
VERSION:2.0
PRODID:-//ChamberMaster//Event Calendar 2.0//EN
METHOD:PUBLISH
X-PUBLISHED-TTL:P3D
REFRESH-INTERVAL:P3D
CALSCALE:GREGORIAN
BEGIN:VEVENT
DTSTART:20101014T230000Z
DTEND:20101015T000000Z
X-MICROSOFT-CDO-ALLDAYEVENT:FALSE
SUMMARY:Lewisville High School Homecoming Parade
DESCRIPTION:The theme for Homecoming is "Big John and The Chocolate Factory&#8221\; (Anything from the Willie Wonka movies). Parade line up between 4:45pm and 5:40pm. \n\n \n\nThe Parade will end at City Hall and our community Pep Rally will begin at 7pm on the steps of Lewisville City Hall in Old Main Street.
X-ALT-DESC;FMTTYPE=text/html:The theme for Homecoming is "Big John and The Chocolate Factory&amp\;#8221\; (Anything from the Willie Wonka movies). Parade line up between 4:45pm and 5:40pm. \n<br> \n<br>The Parade will end at City Hall and our community Pep Rally will begin at 7pm on the steps of Lewisville City Hall in Old Main Street.
LOCATION:Lewisville High School\, 1098 W. Main St.\, Lewisville\, TX 75067
UID:e.437.1589
SEQUENCE:3
DTSTAMP:20260424T163202Z
URL:https://business.lewisvillechamber.org/events/details/lewisville-high-school-homecoming-parade-10-14-2010-1589
END:VEVENT

END:VCALENDAR
