BEGIN:VCALENDAR
VERSION:2.0
PRODID:-//ChamberMaster//Event Calendar 2.0//EN
METHOD:PUBLISH
X-PUBLISHED-TTL:P3D
REFRESH-INTERVAL:P3D
CALSCALE:GREGORIAN
BEGIN:VEVENT
DTSTART;VALUE=DATE:20120607
DTEND;VALUE=DATE:20120608
TRANSP:TRANSPARENT
X-MICROSOFT-CDO-ALLDAYEVENT:TRUE
SUMMARY:LEF Golf Classic
DESCRIPTION:4th Annual LEF Golf Classic\n\n	Morning and Afternoon Flights
X-ALT-DESC;FMTTYPE=text/html:<p>\n	4th Annual LEF Golf Classic<br />\n	Morning and Afternoon Flights</p>\n
LOCATION:Tour 18\, Flower Mound
UID:e.437.2282
SEQUENCE:3
DTSTAMP:20260421T112336Z
URL:https://business.lewisvillechamber.org/events/details/lef-golf-classic-06-07-2012-2282
END:VEVENT

END:VCALENDAR
