BEGIN:VCALENDAR
VERSION:2.0
PRODID:-//ChamberMaster//Event Calendar 2.0//EN
METHOD:PUBLISH
X-PUBLISHED-TTL:P3D
REFRESH-INTERVAL:P3D
CALSCALE:GREGORIAN
BEGIN:VEVENT
DTSTART:20230113T140000Z
DTEND:20230113T153000Z
X-MICROSOFT-CDO-ALLDAYEVENT:FALSE
SUMMARY:LEADS Power Networking Group
DESCRIPTION:
X-ALT-DESC;FMTTYPE=text/html:
LOCATION:551 Event Center 551 N. Valley Parkway Lewisville\, Texas 75067
UID:e.437.29421
SEQUENCE:3
DTSTAMP:20260424T081805Z
URL:https://business.lewisvillechamber.org/events/details/leads-power-networking-group-01-13-2023-29421
END:VEVENT

END:VCALENDAR
