BEGIN:VCALENDAR
VERSION:2.0
PRODID:-//ChamberMaster//Event Calendar 2.0//EN
METHOD:PUBLISH
X-PUBLISHED-TTL:P3D
REFRESH-INTERVAL:P3D
CALSCALE:GREGORIAN
BEGIN:VEVENT
DTSTART:20100827T124500Z
DTEND:20100827T140000Z
X-MICROSOFT-CDO-ALLDAYEVENT:FALSE
SUMMARY:Leads Power Networking - Fuzzy's Taco
DESCRIPTION:Are you looking for a way to get more business exposure?  If you are\, then you might want to come to one of our Power LEADS Networking meetings held every Friday morning beginning at 7:45 a.m.  You can usually count on at least 70 businesses in attendance at LEADS meeting.  The LEADS Power Networking Group co-chairs for this year are Kelly Roberts with Celebrate It! Balloons & Gifts and Eyad Salloum with RE/MAX Advantage.   WE WILL BE HOSTED BY FUZZY'S TACO1288 Main Street\, Lewisville    We start off the morning with some coffee at 7:45 a.m. and then at 8:00 a.m.\, we officially begin the meeting.  We have a 10-minute spotlight from a member of the group.  Then\, you have 30 seconds to tell everyone about your business and what you do.   First time Chamber partners receive one minute to tell everyone about the business. \nDid we mention that this is a FREE event that takes place EVERY Friday morning\, unless otherwise noted. \n If you are not a member of our Chamber and are interested in attending a LEADS meeting\, \nwe encourage you to visit the LEADS meeting twice\, free of charge\, before we ask that you join our Chamber.  \nIf you have any questions\, please contact:\nShannon McGary-Vice President\nshannon@lewisvillechamber.org\nCell: 972-983-7331
X-ALT-DESC;FMTTYPE=text/html:<div><div><div><div><span style="font-size: larger"><font size="2">Are you looking for a way to get more business exposure?&nbsp\; If you are\, then you might want to come to one of our Power LEADS Networking meetings held every Friday morning beginning at 7:45 a.m.&nbsp\;</font></span></div><div><span style="font-size: larger"><font size="2">&nbsp\;</font></span></div><div><span style="font-size: larger"><font size="2">You can usually count on at least 70 businesses in attendance at LEADS meeting.&nbsp\;</font></span></div><div><span style="font-size: larger"><font size="2">&nbsp\;</font></span></div><div><span style="font-size: larger"><font size="2">The LEADS Power Networking Group co-chairs for this year are Kelly Roberts with Celebrate It! Balloons &amp\; Gifts and Eyad Salloum with RE/MAX&nbsp\;Advantage.</font></span></div></div><div><span style="font-size: larger"><font size="2">&nbsp\;</font></span></div><div><font size="2"><span style="font-size: larger">&nbsp\;</span><span style="font-size: larger">&nbsp\;</span></font></div><div style="text-align: center"><span style="font-size: larger"><span style="color: #ff0000"><strong><font size="2">WE WILL BE HOSTED BY FUZZY'S TACO</font></strong></span></span></div><div style="text-align: center"><span style="font-size: larger"><span style="color: #ff0000"><font size="2">1288 Main Street\, Lewisville</font></span></span></div><div style="text-align: center">&nbsp\;</div><div style="text-align: center"><span style="font-size: larger"><font size="2">&nbsp\;</font></span></div><div style="text-align: center"><span style="font-size: larger"><font size="2">&nbsp\;</font></span></div><div style="text-align: center">&nbsp\;</div><div><span style="font-size: larger"><font size="2">We start off the morning with some coffee at 7:45 a.m. and then at 8:00 a.m.\, we officially begin the meeting.&nbsp\; We have a 10-minute spotlight from a member of the group.&nbsp\; Then\, you have&nbsp\;30 seconds to tell everyone about your business and what you do.&nbsp\;&nbsp\;</font></span></div><div><span style="font-size: larger"><font size="2">&nbsp\;</font></span></div><div><span style="font-size: larger"><font size="2">First time Chamber partners receive one minute to tell everyone about the business.&nbsp\;</font></span></div><div><span style="font-size: larger"><br /><font size="2">Did we mention that this is a <strong><em>FREE</em></strong> event that takes place <strong><em>EVERY</em></strong> Friday morning\, unless otherwise noted.&nbsp\;<br />&nbsp\;</font></span></div><p align="center"><span style="font-size: larger"><em><strong><font size="2">If you are not a member of our Chamber and are interested in attending a LEADS meeting\, <br />we encourage you&nbsp\;to visit the LEADS meeting twice\, free of charge\, before we ask that you join our Chamber.&nbsp\; </font></strong></em></span></p><p align="center"><span style="font-size: larger"><br /><font size="2">If you have any questions\, please contact:<br /><strong>Shannon McGary-<em>Vice President</em></strong><br /></font></span><a href="mailto:shannon@lewisvillechamber.org"><span style="font-size: larger"><font color="#000000" size="2">shannon@lewisvillechamber.org</font></span></a><span style="font-size: larger"><br /><strong><font size="2">Cell: 972-983-7331</font></strong></span></p></div></div>
LOCATION:
UID:e.437.1494
SEQUENCE:3
DTSTAMP:20260422T091845Z
URL:https://business.lewisvillechamber.org/events/details/leads-power-networking-fuzzy-s-taco-08-27-2010-1494
END:VEVENT

END:VCALENDAR
