BEGIN:VCALENDAR
VERSION:2.0
PRODID:-//ChamberMaster//Event Calendar 2.0//EN
METHOD:PUBLISH
X-PUBLISHED-TTL:P3D
REFRESH-INTERVAL:P3D
CALSCALE:GREGORIAN
BEGIN:VEVENT
DTSTART:20211105T124500Z
DTEND:20211105T140000Z
X-MICROSOFT-CDO-ALLDAYEVENT:FALSE
SUMMARY:LEADS Power Networking
DESCRIPTION:
X-ALT-DESC;FMTTYPE=text/html:<br />\n<br />\n<br />\n&nbsp\;
LOCATION:551 Event Center 551 N. Valley Parkway Lewisville\, Texas 75067
UID:e.437.27179
SEQUENCE:3
DTSTAMP:20260423T161623Z
URL:https://business.lewisvillechamber.org/events/details/leads-power-networking-11-05-2021-27179
END:VEVENT

END:VCALENDAR
