BEGIN:VCALENDAR
VERSION:2.0
PRODID:-//ChamberMaster//Event Calendar 2.0//EN
METHOD:PUBLISH
X-PUBLISHED-TTL:P3D
REFRESH-INTERVAL:P3D
CALSCALE:GREGORIAN
BEGIN:VEVENT
DTSTART:20120322T163000Z
DTEND:20120322T170000Z
X-MICROSOFT-CDO-ALLDAYEVENT:FALSE
SUMMARY:Groundbreaking and Luncheon
DESCRIPTION:Come join in on the Groundbreaking for our new member: \n\n	 \n\n	Rosewood Assisted Living & Memory Care Community\n\n	4141 Long Prairie Rd.\n\n	Flower Mound\n\n	\n\n	Luncheon and presentation immediately following at\n\n	9 Social\n\n	2300 Highland Village Rd.\, Ste. 900\n\n	Highland Village\n\n	\n\n	RSVP Kim Lyles - 972-829-2050
X-ALT-DESC;FMTTYPE=text/html:<p style="text-align: center">\n	<span style="font-family: comic sans ms"><span style="font-size: 14px"><span style="color: #0000cd">Come join in on the Groundbreaking for our new member: </span></span></span><br />\n	&nbsp\;</p>\n<p style="text-align: center">\n	<span style="font-size: 16px"><span style="font-family: comic sans ms"><span style="color: #0000cd">Rosewood Assisted Living &amp\; Memory Care Community<br />\n	<span style="font-size: 14px">4141 Long Prairie Rd.<br />\n	Flower Mound<br />\n	<br />\n	Luncheon and presentation immediately following at<br />\n	<strong>9 Social</strong><br />\n	2300 Highland Village Rd.\, Ste. 900<br />\n	Highland Village<br />\n	<br />\n	RSVP Kim Lyles - 972-829-2050</span></span></span></span></p>
LOCATION:4141 Long Prairie Rd. Flower Mound Luncheon and presentation immediately following at 9 Social 2300 Highland Village Rd.\, Ste. 900 Highland Village RSVP Kim Lyles - 972-829-2050
UID:e.437.2299
SEQUENCE:3
DTSTAMP:20260421T052427Z
URL:https://business.lewisvillechamber.org/events/details/groundbreaking-and-luncheon-03-22-2012-2299
END:VEVENT

END:VCALENDAR
