BEGIN:VCALENDAR
VERSION:2.0
PRODID:-//ChamberMaster//Event Calendar 2.0//EN
METHOD:PUBLISH
X-PUBLISHED-TTL:P3D
REFRESH-INTERVAL:P3D
CALSCALE:GREGORIAN
BEGIN:VEVENT
DTSTART;VALUE=DATE:20120204
DTEND;VALUE=DATE:20120205
TRANSP:TRANSPARENT
X-MICROSOFT-CDO-ALLDAYEVENT:TRUE
SUMMARY:Grand reOpening Christian Community Action
DESCRIPTION:reSale by CCA Grand reOpening Lewisville 121 store\n\n	2202 S. Hwy 121 Lewisville\, TX \n\n	\n\n	    This Saturday Hourly giveaways from 11-5 \n\n	\n\n	30% off Furniture\n\n	\n\n	Bring your Can goods\, Toiletires\, and home goods to receive a valuable coupon.
X-ALT-DESC;FMTTYPE=text/html:<p style="text-align: center">\n	<span style="font-size: 16px"><strong><span style="color: #ff0000">reSale by CCA Grand reOpening Lewisville 121 store<br />\n	2202 S. Hwy 121 Lewisville\, TX&nbsp\;<br />\n	<br />\n	&nbsp\;&nbsp\;&nbsp\;&nbsp\;This Saturday Hourly giveaways from 11-5 </span><br />\n	<br />\n	<span style="color: #0000ff">30% off Furniture<br />\n	<br />\n	Bring your Can goods\, Toiletires\, and home goods to receive&nbsp\;a valuable coupon. </span></strong></span><br />\n	<br />\n	<br />\n	<br />\n	<br />\n	<br />\n	&nbsp\;</p>
LOCATION:2202 S. Hwy 121 Lewisville\, Tx 75067
UID:e.437.2274
SEQUENCE:3
DTSTAMP:20260421T070542Z
URL:https://business.lewisvillechamber.org/events/details/grand-reopening-christian-community-action-02-04-2012-2274
END:VEVENT

END:VCALENDAR
