BEGIN:VCALENDAR
VERSION:2.0
PRODID:-//ChamberMaster//Event Calendar 2.0//EN
METHOD:PUBLISH
X-PUBLISHED-TTL:P3D
REFRESH-INTERVAL:P3D
CALSCALE:GREGORIAN
BEGIN:VEVENT
DTSTART:20120630T140000Z
DTEND:20120630T190000Z
X-MICROSOFT-CDO-ALLDAYEVENT:FALSE
SUMMARY:Grand Opening - Ribbon Cutting - Animal Shelter
DESCRIPTION:Animal Shelter grand opening celebration set for June 30\n\n \n\nThe public is invited to attend the grand opening for the new City of Lewisville Animal Shelter and Adoption Center\, to be held Saturday\, June 30\, from 9 a.m. to 2 p.m.\, at the new facility at 995 E. Valley Ridge.\n\n\n\nThe formal opening ceremony and dedication will be held at the start of the event\, shortly after 9 a.m. Vendors\, information booths and other activities will continue until 2 p.m.\n\n \n\nThe new shelter is located on 2.5 acres near the banks of the Trinity River\, across from the north entrance of Toyota of Lewisville Railroad Park and in easy walking distance from the Lewisville Dog Park. The building is roughly three times the size of the city's current animal shelter\, which was built in the early 1970s.
X-ALT-DESC;FMTTYPE=text/html:&nbsp\;<span style="font-size: 14pt"><span style="font-family: gill sans mt\,sans-serif">Animal Shelter grand opening celebration set for June 30</span></span><br />\n&nbsp\;<br />\n<span style="font-size: 11pt"><span style="font-family: gill sans mt\,sans-serif">The public is invited to attend the grand opening for the new City of Lewisville Animal Shelter and Adoption Center\, to be held Saturday\, June 30\, from 9 a.m. to 2 p.m.\, at the new facility at 995 E. Valley Ridge.</span></span><br />\n<br />\n<span style="font-size: 11pt"><span style="font-family: gill sans mt\,sans-serif">The formal opening ceremony and dedication will be held at the start of the event\, shortly after 9 a.m. Vendors\, information booths and other activities will continue until 2 p.m.</span></span><br />\n&nbsp\;<br />\n<span style="font-size: 11pt"><span style="font-family: gill sans mt\,sans-serif">The new shelter is located on 2.5 acres near the banks of the Trinity River\, across from the north entrance of Toyota of Lewisville Railroad Park and in easy walking distance from the Lewisville Dog Park. The building is roughly three times the size of the city&#39\;s current animal shelter\, which was built in the early 1970s.</span></span><br />\n<br />\n&nbsp\;<br />\n
LOCATION:City of Lewisville Animal Shelter and Adoption Center\, 995 E. Valley Ridge.
UID:e.437.2331
SEQUENCE:3
DTSTAMP:20260421T130414Z
URL:https://business.lewisvillechamber.org/events/details/grand-opening-ribbon-cutting-animal-shelter-06-30-2012-2331
END:VEVENT

END:VCALENDAR
