BEGIN:VCALENDAR
VERSION:2.0
PRODID:-//ChamberMaster//Event Calendar 2.0//EN
METHOD:PUBLISH
X-PUBLISHED-TTL:P3D
REFRESH-INTERVAL:P3D
CALSCALE:GREGORIAN
BEGIN:VEVENT
DTSTART:20110510T220000Z
DTEND:20110511T010000Z
X-MICROSOFT-CDO-ALLDAYEVENT:FALSE
SUMMARY:Grand Opening of "The Face Place"
DESCRIPTION:Come celebrate the grand opening of "The Face Place". The Face Place is a Mary Kay meeting center where we hold makeovers\, photoshoots\, pampering sessions and a lot more! We will have stations set up that display all of our products so you can see everything we have to offer. There will be prizes given away every half hour and a grand prize at the end of the evening!
X-ALT-DESC;FMTTYPE=text/html:Come celebrate the grand opening of "The Face Place". The Face Place is a Mary Kay meeting center where we hold makeovers\, photoshoots\, pampering sessions and a lot more! We will have stations set up that display all of our products so you can see everything we have to offer. There will be prizes given away every half hour and a grand prize at the end of the evening!
LOCATION:3000 Corporate Ct Suite 350 Flower Mound\, TX 75028
UID:e.437.1742
SEQUENCE:3
DTSTAMP:20260421T213543Z
URL:https://business.lewisvillechamber.org/events/details/grand-opening-of-the-face-place-05-10-2011-1742
END:VEVENT

END:VCALENDAR
