BEGIN:VCALENDAR
VERSION:2.0
PRODID:-//ChamberMaster//Event Calendar 2.0//EN
METHOD:PUBLISH
X-PUBLISHED-TTL:P3D
REFRESH-INTERVAL:P3D
CALSCALE:GREGORIAN
BEGIN:VEVENT
DTSTART:20120322T140000Z
DTEND:20120322T150000Z
X-MICROSOFT-CDO-ALLDAYEVENT:FALSE
SUMMARY:Government Affairs
DESCRIPTION:Make plans to join us today for our Government Affairs Meeting. Our meeting will begin at 9 a.m. in the large conference room at the Lewisville Area Chamber of Commerce. Come and listen to updates from officials with the city of Lewisville\, Highland Village and the town of Flower Mound\, the Denton County Transportation Authority\, county officials and state and national officials.
X-ALT-DESC;FMTTYPE=text/html:<span class="text"><font color="#000066"><font color="#000000">Make plans to join us today for our <strong>Government Affairs Meeting.</strong> Our meeting will begin at 9 a.m. in the large conference room at the Lewisville Area Chamber of Commerce. Come and listen to updates from officials with the city of Lewisville\, Highland Village and the town of Flower Mound\, the Denton County Transportation Authority\, county officials and&nbsp\;state and&nbsp\;national officials.</font>&nbsp\;</font></span>
LOCATION:Lewisville Chamber Large Conference Room
UID:e.437.2283
SEQUENCE:3
DTSTAMP:20260421T053912Z
URL:https://business.lewisvillechamber.org/events/details/government-affairs-03-22-2012-2283
END:VEVENT

END:VCALENDAR
