BEGIN:VCALENDAR
VERSION:2.0
PRODID:-//ChamberMaster//Event Calendar 2.0//EN
METHOD:PUBLISH
X-PUBLISHED-TTL:P3D
REFRESH-INTERVAL:P3D
CALSCALE:GREGORIAN
BEGIN:VEVENT
DTSTART:20150331T230000Z
DTEND:20150401T010000Z
X-MICROSOFT-CDO-ALLDAYEVENT:FALSE
SUMMARY:Free Community Class: Landscape Design
DESCRIPTION:Keep Lewisville Beautiful is partnering with the City to host this class. Be your own Landscape Designer by learning hands on approaches to landscape design for the DIY homeowner. Learn proper plant placement\, design aspects and installation for a more drought tolerant landscape. All of this in a free two hour lecture taught by Texas Agrilife.
X-ALT-DESC;FMTTYPE=text/html:Keep Lewisville Beautiful is partnering with the City to host this class. Be your own Landscape Designer by learning hands on approaches to landscape design for the DIY homeowner. Learn proper plant placement\, design aspects and installation for a more drought tolerant landscape. All of this in a free two hour lecture taught by Texas Agrilife.
LOCATION:Community Room in the Annex 1197 W Main St Lewisville\, TX 75057
UID:e.437.4700
SEQUENCE:3
DTSTAMP:20260421T083724Z
URL:https://business.lewisvillechamber.org/events/details/free-community-class-landscape-design-03-31-2015-4700
END:VEVENT

END:VCALENDAR
