BEGIN:VCALENDAR
VERSION:2.0
PRODID:-//ChamberMaster//Event Calendar 2.0//EN
METHOD:PUBLISH
X-PUBLISHED-TTL:P3D
REFRESH-INTERVAL:P3D
CALSCALE:GREGORIAN
BEGIN:VEVENT
DTSTART:20101105T230000Z
DTEND:20101106T000000Z
X-MICROSOFT-CDO-ALLDAYEVENT:FALSE
SUMMARY:First Friday Free Community Yoga
DESCRIPTION:Join Transform U Fitness on the first Friday of every month for our Free community yoga class appropriate for all levels.  It is our belief that yoga should not be out of reach for anyone and the world would be a better place if we all had a chance to slow down and just breathe.  Join our community and celebrate the benefits of yoga and you.  Space is limited - Pre Registration is required at www.tufbodies.com
X-ALT-DESC;FMTTYPE=text/html:Join Transform U Fitness on the first Friday of every month for our Free community yoga class appropriate for all levels.  It is our belief that yoga should not be out of reach for anyone and the world would be a better place if we all had a chance to slow down and just breathe.  Join our community and celebrate the benefits of yoga and you.  Space is limited - Pre Registration is required at www.tufbodies.com
LOCATION:Transform U Fitness Private Training & Yoga Studio 1565 W. Main St. Ste 240 Lewisville
UID:e.437.1596
SEQUENCE:3
DTSTAMP:20260424T165126Z
URL:https://business.lewisvillechamber.org/events/details/first-friday-free-community-yoga-11-05-2010-1596
END:VEVENT

END:VCALENDAR
