BEGIN:VCALENDAR
VERSION:2.0
PRODID:-//ChamberMaster//Event Calendar 2.0//EN
METHOD:PUBLISH
X-PUBLISHED-TTL:P3D
REFRESH-INTERVAL:P3D
CALSCALE:GREGORIAN
BEGIN:VEVENT
DTSTART:20101112T183000Z
DTEND:20101112T193000Z
X-MICROSOFT-CDO-ALLDAYEVENT:FALSE
SUMMARY:Event at Lewisville Public Library
DESCRIPTION:PointBank will be presenting the Lewisville Public Library with a check from the proceeds of their annual charity golf tournament that supports Denton County Libraries.  \n\n\n\nPlease come and support our local community\, enjoy refreshments\, and networking with fellow chamber members and other community leaders.
X-ALT-DESC;FMTTYPE=text/html:PointBank will be presenting the Lewisville Public Library with a check from the proceeds of their annual charity golf tournament that supports Denton County Libraries.  \n<br>\n<br>Please come and support our local community\, enjoy refreshments\, and networking with fellow chamber members and other community leaders.  
LOCATION:Lewisville Public Library
UID:e.437.1600
SEQUENCE:3
DTSTAMP:20260424T165223Z
URL:https://business.lewisvillechamber.org/events/details/event-at-lewisville-public-library-11-12-2010-1600
END:VEVENT

END:VCALENDAR
