BEGIN:VCALENDAR
VERSION:2.0
PRODID:-//ChamberMaster//Event Calendar 2.0//EN
METHOD:PUBLISH
X-PUBLISHED-TTL:P3D
REFRESH-INTERVAL:P3D
CALSCALE:GREGORIAN
BEGIN:VEVENT
DTSTART:20120328T180000Z
DTEND:20120328T220000Z
X-MICROSOFT-CDO-ALLDAYEVENT:FALSE
SUMMARY:Event at Lewisville Noon Rotary Club
DESCRIPTION:This is Lewisville Noon's 14th Annual 'Big Fore' golf torunament.  All proceeds support 19 local area charities and non-profit organizations.  Sponsors are all lined up and we need players!  Please consider coming out to play in the first tournament of the season at the fabulouse Tour 18 golf club in Flower Mound.  See you on the 28th!!
X-ALT-DESC;FMTTYPE=text/html:<span style="font-size:16px\;">This is Lewisville Noon&#39\;s 14th Annual &#39\;<strong><em>Big Fore</em></strong>&#39\; golf torunament. &nbsp\;All proceeds support 19 local area charities and non-profit organizations. &nbsp\;Sponsors are all lined up and we need players! &nbsp\;Please consider coming out to play in the first tournament of the season at the fabulouse Tour 18 golf club in Flower Mound. &nbsp\;See you on the 28th!!</span>
LOCATION:Tour 18\, 8718 Amen Corner\, Flower Mound\, TX
UID:e.437.2298
SEQUENCE:3
DTSTAMP:20260421T154914Z
URL:https://business.lewisvillechamber.org/events/details/event-at-lewisville-noon-rotary-club-03-28-2012-2298
END:VEVENT

END:VCALENDAR
