BEGIN:VCALENDAR
VERSION:2.0
PRODID:-//ChamberMaster//Event Calendar 2.0//EN
METHOD:PUBLISH
X-PUBLISHED-TTL:P3D
REFRESH-INTERVAL:P3D
CALSCALE:GREGORIAN
BEGIN:VEVENT
DTSTART:20120106T000000Z
DTEND:20120106T020000Z
X-MICROSOFT-CDO-ALLDAYEVENT:FALSE
SUMMARY:Denton County Republican Club
DESCRIPTION:Denton County Republican Club
X-ALT-DESC;FMTTYPE=text/html:Denton County Republican Club
LOCATION:Lewisville Area Chamber of Commerce Large Conference Room 551 N. Valley Parkway Lewisville
UID:e.437.1833
SEQUENCE:3
DTSTAMP:20260421T184958Z
URL:https://business.lewisvillechamber.org/events/details/denton-county-republican-club-01-05-2012-1833
END:VEVENT

END:VCALENDAR
